BEGIN:VCALENDAR
VERSION:2.0
PRODID:-//hacksw/handcal//NONSGML v1.0//EN
BEGIN:VEVENT
SUMMARY:Festival Foot U13
UID:53e7af1a-1422-4aa1-b323-421a3d72aede
DTSTART:20260314T150000Z
DTEND:20260314T163000Z
LOCATION:Localisation Stade Alain Polaniok Route de Chantereine 78711 Mantes la Ville
CATEGORIES:Sportif
STATUS:
URL;VALUE=URI:https://interfoot78.sportsregions.fr/evenements/2026/03/14/festival-foot-u13-2427469
END:VEVENT
END:VCALENDAR
