BEGIN:VCALENDAR
VERSION:2.0
PRODID:-//hacksw/handcal//NONSGML v1.0//EN
BEGIN:VEVENT
SUMMARY:Challenge Departemental U10-U11
UID:6c273543-acb8-45a4-9a8b-5161c6f1cf7a
DTSTART:20260314T100000Z
DTEND:20260314T113000Z
LOCATION:Localisation Stade Alain Polaniok Route de Chantereine 78711 Mantes la Ville
CATEGORIES:Sportif
STATUS:
URL;VALUE=URI:https://interfoot78.sportsregions.fr/evenements/2026/03/14/challenge-departemental-u10-u11-2427468
END:VEVENT
END:VCALENDAR
